BEGIN:VCALENDAR
VERSION:2.0
PRODID:-//EQ - ECPv6.15.20//NONSGML v1.0//EN
CALSCALE:GREGORIAN
METHOD:PUBLISH
X-WR-CALNAME:EQ
X-ORIGINAL-URL:https://www.eqsandiego.com
X-WR-CALDESC:Events for EQ
REFRESH-INTERVAL;VALUE=DURATION:PT1H
X-Robots-Tag:noindex
X-PUBLISHED-TTL:PT1H
BEGIN:VTIMEZONE
TZID:America/Los_Angeles
BEGIN:DAYLIGHT
TZOFFSETFROM:-0800
TZOFFSETTO:-0700
TZNAME:PDT
DTSTART:20250309T100000
END:DAYLIGHT
BEGIN:STANDARD
TZOFFSETFROM:-0700
TZOFFSETTO:-0800
TZNAME:PST
DTSTART:20251102T090000
END:STANDARD
BEGIN:DAYLIGHT
TZOFFSETFROM:-0800
TZOFFSETTO:-0700
TZNAME:PDT
DTSTART:20260308T100000
END:DAYLIGHT
BEGIN:STANDARD
TZOFFSETFROM:-0700
TZOFFSETTO:-0800
TZNAME:PST
DTSTART:20261101T090000
END:STANDARD
BEGIN:DAYLIGHT
TZOFFSETFROM:-0800
TZOFFSETTO:-0700
TZNAME:PDT
DTSTART:20270314T100000
END:DAYLIGHT
BEGIN:STANDARD
TZOFFSETFROM:-0700
TZOFFSETTO:-0800
TZNAME:PST
DTSTART:20271107T090000
END:STANDARD
END:VTIMEZONE
BEGIN:VEVENT
DTSTART;TZID=America/Los_Angeles:20260321T210000
DTEND;TZID=America/Los_Angeles:20260322T020000
DTSTAMP:20260422T184947
CREATED:20260225T234629Z
LAST-MODIFIED:20260225T234629Z
UID:987515405-1774126800-1774144800@www.eqsandiego.com
SUMMARY:Bootydew X Soft Shoulder Present: Bored Lord
DESCRIPTION:We’re back with our first event of 2026 & collaborating with our friends over at Soft Shoulder Club for a steamy night and our debut at EQ nightclub. \nIt’s our first time in the heart of Hillcrest aka the gayborhood 😉 Soft Shoulder is a San Diego based Club and Dance Music collective which showcases local San Diego talent and fosters a space in which all are welcome to dance with no regards. Prepare to get your sh!t rocked by a lineup of experienced genre-benders ready to perform for a good cause. \nAll profits made from this party will to donated to support families in Southern California affected by the ICE raids. Welcoming Oakland’s very own Bored Lord\, prepare for a night of Bay Area influenced beats ranging from club music\, breakbeats\, house\, dub\, and everything hot and sexy in between. \nA master at her craft\, expect some profound ass beats. We are so excited to have her! On support is SD sweetheart Honeydü\, for her first Bootydü. Dana’s been on the rise with her productions that meld together an energy within breaks\, prog\, and electro that’s aquatic\, bass heavy and sparkly AF. Swe4ter infuses the breakbeats and heavy kicks of Baltimore & Jersey Club with flowing ethereal synths and textures to create high energy\, flowing sets which transport listeners into a dreamscape club. \nJoining on a b2b is Xochi\, who’s sets flow with unique sonic textures in genres ranging from reggaeton to footwork. Xochi blends a wide variety of genres to take listeners on a journey through the many facets of club music. Kale\, Bootydew mamasita\, will be fusing together some fast bootyshaking beats\, pulling inspiration from latin percussions\, jersey club\, with cheeky edits as always. \nOur events are a safe space for everyone\, more specifically the queer community\, women\, POC\, and the hoes. Please practice consent and respect the dancefloor. We have a zero tolerance policy for discrimination or creating discomfort. \nhttps://shotgun.live/en/events/bootydew-x-soft-shoulder-club-presents-bored-lord? \nGet Tickets
URL:https://www.eqsandiego.com/event/bootydew-x-soft-shoulder-present-bored-lord/
LOCATION:EQ\, 1271 University Avenue\, San Diego\, CA\, 92103\, United States
ATTACH;FMTTYPE=image/jpeg:https://www.eqsandiego.com/app/assets/media/2026/02/EECC4994-3769-4C8E-AA97-301A5771A34A.jpg
GEO:32.7480949;-117.151939
X-APPLE-STRUCTURED-LOCATION;VALUE=URI;X-ADDRESS=EQ 1271 University Avenue San Diego CA 92103 United States;X-APPLE-RADIUS=500;X-TITLE=1271 University Avenue:geo:-117.151939,32.7480949
END:VEVENT
END:VCALENDAR