BEGIN:VCALENDAR
VERSION:2.0
PRODID:-//EQ - ECPv6.15.20//NONSGML v1.0//EN
CALSCALE:GREGORIAN
METHOD:PUBLISH
X-ORIGINAL-URL:https://www.eqsandiego.com
X-WR-CALDESC:Events for EQ
REFRESH-INTERVAL;VALUE=DURATION:PT1H
X-Robots-Tag:noindex
X-PUBLISHED-TTL:PT1H
BEGIN:VTIMEZONE
TZID:America/Los_Angeles
BEGIN:DAYLIGHT
TZOFFSETFROM:-0800
TZOFFSETTO:-0700
TZNAME:PDT
DTSTART:20300310T100000
END:DAYLIGHT
BEGIN:STANDARD
TZOFFSETFROM:-0700
TZOFFSETTO:-0800
TZNAME:PST
DTSTART:20301103T090000
END:STANDARD
BEGIN:DAYLIGHT
TZOFFSETFROM:-0800
TZOFFSETTO:-0700
TZNAME:PDT
DTSTART:20310309T100000
END:DAYLIGHT
BEGIN:STANDARD
TZOFFSETFROM:-0700
TZOFFSETTO:-0800
TZNAME:PST
DTSTART:20311102T090000
END:STANDARD
BEGIN:DAYLIGHT
TZOFFSETFROM:-0800
TZOFFSETTO:-0700
TZNAME:PDT
DTSTART:20320314T100000
END:DAYLIGHT
BEGIN:STANDARD
TZOFFSETFROM:-0700
TZOFFSETTO:-0800
TZNAME:PST
DTSTART:20321107T090000
END:STANDARD
END:VTIMEZONE
BEGIN:VEVENT
DTSTART;TZID=America/Los_Angeles:20310410T210000
DTEND;TZID=America/Los_Angeles:20310411T020000
DTSTAMP:20260425T201905
CREATED:20250424T085157Z
LAST-MODIFIED:20250424T085157Z
UID:990001506-1933621200-1933639200@www.eqsandiego.com
SUMMARY:REVERB
DESCRIPTION:REVERB Thursday \nStep into the world of REVERB\, EQ San Diego’s Thursday night dedicated to the raw energy and depth of Hard Techno. \nThis is a place where local and emerging artists take control of the decks! \nWe bring a fresh selection of techno\, spanning from underground grooves to harder\, more intense sounds\, creating a space where the music speaks for itself. \nWhether you’re here to dance until late\, discover new artists\, or simply lose yourself in the atmosphere\, REVERB is about connection through sound. \nNo distractions\, no compromises -just pure\, unfiltered techno. \n\nNO Cover till 11:30PM
URL:https://www.eqsandiego.com/event/reverb-6/2031-04-10/
LOCATION:EQ\, 1271 University Avenue\, San Diego\, CA\, 92103\, United States
ATTACH;FMTTYPE=image/jpeg:https://www.eqsandiego.com/app/assets/media/2025/04/Every-Thursday-1-1.jpg
GEO:32.7480949;-117.151939
X-APPLE-STRUCTURED-LOCATION;VALUE=URI;X-ADDRESS=EQ 1271 University Avenue San Diego CA 92103 United States;X-APPLE-RADIUS=500;X-TITLE=1271 University Avenue:geo:-117.151939,32.7480949
END:VEVENT
BEGIN:VEVENT
DTSTART;TZID=America/Los_Angeles:20310415T200000
DTEND;TZID=America/Los_Angeles:20310416T020000
DTSTAMP:20260425T201905
CREATED:20250527T043951Z
LAST-MODIFIED:20250527T045817Z
UID:990001509-1934049600-1934071200@www.eqsandiego.com
SUMMARY:SAN DNB
DESCRIPTION:🎧 Sanctuary every Tuesdays📅  every Tuesday\, May 27\, 2025📍 EQ San Diego | 1271 University Ave | 21+🕗 8PM – Close💵 FREE COVER🍻 Happy Hour Specials All Night \nWe’re closing out the month with two selectors who always deliver on depth\, drive\, and dancefloor energy: \n DNB Residents\, keeping the pulse steady as always. \nFree entry\, cold drinks\, and serious low-end.Let’s wrap up May on the right frequency. \n\n 
URL:https://www.eqsandiego.com/event/san-dnb/2031-04-15/
LOCATION:EQ\, 1271 University Avenue\, San Diego\, CA\, 92103\, United States
ATTACH;FMTTYPE=image/jpeg:https://www.eqsandiego.com/app/assets/media/2025/05/Dark-Mystery-Horror-Movie-Poster-1080-x-1350-px-1.jpg
GEO:32.7480949;-117.151939
X-APPLE-STRUCTURED-LOCATION;VALUE=URI;X-ADDRESS=EQ 1271 University Avenue San Diego CA 92103 United States;X-APPLE-RADIUS=500;X-TITLE=1271 University Avenue:geo:-117.151939,32.7480949
END:VEVENT
BEGIN:VEVENT
DTSTART;TZID=America/Los_Angeles:20310417T210000
DTEND;TZID=America/Los_Angeles:20310418T020000
DTSTAMP:20260425T201905
CREATED:20250424T085157Z
LAST-MODIFIED:20250424T085157Z
UID:990001510-1934226000-1934244000@www.eqsandiego.com
SUMMARY:REVERB
DESCRIPTION:REVERB Thursday \nStep into the world of REVERB\, EQ San Diego’s Thursday night dedicated to the raw energy and depth of Hard Techno. \nThis is a place where local and emerging artists take control of the decks! \nWe bring a fresh selection of techno\, spanning from underground grooves to harder\, more intense sounds\, creating a space where the music speaks for itself. \nWhether you’re here to dance until late\, discover new artists\, or simply lose yourself in the atmosphere\, REVERB is about connection through sound. \nNo distractions\, no compromises -just pure\, unfiltered techno. \n\nNO Cover till 11:30PM
URL:https://www.eqsandiego.com/event/reverb-6/2031-04-17/
LOCATION:EQ\, 1271 University Avenue\, San Diego\, CA\, 92103\, United States
ATTACH;FMTTYPE=image/jpeg:https://www.eqsandiego.com/app/assets/media/2025/04/Every-Thursday-1-1.jpg
GEO:32.7480949;-117.151939
X-APPLE-STRUCTURED-LOCATION;VALUE=URI;X-ADDRESS=EQ 1271 University Avenue San Diego CA 92103 United States;X-APPLE-RADIUS=500;X-TITLE=1271 University Avenue:geo:-117.151939,32.7480949
END:VEVENT
END:VCALENDAR